BEGIN:VCALENDAR
VERSION:2.0
PRODID:-//Invest Sabah - ECPv6.4.0//NONSGML v1.0//EN
CALSCALE:GREGORIAN
METHOD:PUBLISH
X-ORIGINAL-URL:https://investsabah.gov.my
X-WR-CALDESC:Events for Invest Sabah
REFRESH-INTERVAL;VALUE=DURATION:PT1H
X-Robots-Tag:noindex
X-PUBLISHED-TTL:PT1H
BEGIN:VTIMEZONE
TZID:Asia/Shanghai
BEGIN:STANDARD
TZOFFSETFROM:+0800
TZOFFSETTO:+0800
TZNAME:CST
DTSTART:20250101T000000
END:STANDARD
END:VTIMEZONE
BEGIN:VEVENT
DTSTART;VALUE=DATE:20250211
DTEND;VALUE=DATE:20250212
DTSTAMP:20260419T224322
CREATED:20250210T081456Z
LAST-MODIFIED:20250210T081456Z
UID:10000015-1739232000-1739318399@investsabah.gov.my
SUMMARY:Malaysia-Thailand Industrial Products Business Matching
DESCRIPTION:
URL:https://investsabah.gov.my/event/malaysia-thailand-industrial-products-business-matching/
LOCATION:Imperial Lexis\, Kuala Lumpur
END:VEVENT
BEGIN:VEVENT
DTSTART;VALUE=DATE:20250225
DTEND;VALUE=DATE:20250227
DTSTAMP:20260419T224322
CREATED:20250207T010213Z
LAST-MODIFIED:20250207T010213Z
UID:10000014-1740441600-1740614399@investsabah.gov.my
SUMMARY:EIC Connect Energy Borneo 2025
DESCRIPTION:
URL:https://investsabah.gov.my/event/eic-connect-energy-borneo-2025/
LOCATION:Hikmah Exchange Event Centre\, Kucing\, Malaysia
END:VEVENT
BEGIN:VEVENT
DTSTART;VALUE=DATE:20250227
DTEND;VALUE=DATE:20250301
DTSTAMP:20260419T224322
CREATED:20250214T041713Z
LAST-MODIFIED:20250214T041713Z
UID:10000016-1740614400-1740787199@investsabah.gov.my
SUMMARY:2nd International Business Events Forum
DESCRIPTION:
URL:https://investsabah.gov.my/event/2nd-international-business-events-forum/
LOCATION:Sabah International Convention Centre\, Kota Kinabalu\, Sabah\, Malaysia
END:VEVENT
END:VCALENDAR