BEGIN:VCALENDAR
VERSION:2.0
PRODID:-//Invest Sabah - ECPv6.4.0//NONSGML v1.0//EN
CALSCALE:GREGORIAN
METHOD:PUBLISH
X-WR-CALNAME:Invest Sabah
X-ORIGINAL-URL:https://investsabah.gov.my
X-WR-CALDESC:Events for Invest Sabah
REFRESH-INTERVAL;VALUE=DURATION:PT1H
X-Robots-Tag:noindex
X-PUBLISHED-TTL:PT1H
BEGIN:VTIMEZONE
TZID:Asia/Shanghai
BEGIN:STANDARD
TZOFFSETFROM:+0800
TZOFFSETTO:+0800
TZNAME:CST
DTSTART:20240101T000000
END:STANDARD
END:VTIMEZONE
BEGIN:VEVENT
DTSTART;VALUE=DATE:20241210
DTEND;VALUE=DATE:20241212
DTSTAMP:20260420T015723
CREATED:20241206T005255Z
LAST-MODIFIED:20241206T005255Z
UID:10000012-1733788800-1733961599@investsabah.gov.my
SUMMARY:Ras Al-Khaimah Investment & Business Summit
DESCRIPTION:
URL:https://investsabah.gov.my/event/ras-al-khaimah-investment-business-summit/
LOCATION:Al Hamra International Exhibition & Conference Center\, Ras Al Khaimah\, UAE\, United Arab Emirates
END:VEVENT
END:VCALENDAR