BEGIN:VCALENDAR
VERSION:2.0
PRODID:-//Invest Sabah - ECPv6.4.0//NONSGML v1.0//EN
CALSCALE:GREGORIAN
METHOD:PUBLISH
X-WR-CALNAME:Invest Sabah
X-ORIGINAL-URL:https://investsabah.gov.my
X-WR-CALDESC:Events for Invest Sabah
REFRESH-INTERVAL;VALUE=DURATION:PT1H
X-Robots-Tag:noindex
X-PUBLISHED-TTL:PT1H
BEGIN:VTIMEZONE
TZID:Asia/Shanghai
BEGIN:STANDARD
TZOFFSETFROM:+0800
TZOFFSETTO:+0800
TZNAME:CST
DTSTART:20250101T000000
END:STANDARD
END:VTIMEZONE
BEGIN:VEVENT
DTSTART;VALUE=DATE:20250611
DTEND;VALUE=DATE:20250613
DTSTAMP:20260420T120904
CREATED:20250420T234502Z
LAST-MODIFIED:20250420T234502Z
UID:10000022-1749600000-1749772799@investsabah.gov.my
SUMMARY:Malaysia Palm Oil Expo (MAPEX) 2025
DESCRIPTION:
URL:https://investsabah.gov.my/event/malaysia-palm-oil-expo-mapex-2025/
LOCATION:Dewan Hakka\, Sandakan
CATEGORIES:Upcoming Events
END:VEVENT
BEGIN:VEVENT
DTSTART;VALUE=DATE:20250620
DTEND;VALUE=DATE:20250621
DTSTAMP:20260420T120904
CREATED:20250420T234813Z
LAST-MODIFIED:20250421T011603Z
UID:10000024-1750377600-1750463999@investsabah.gov.my
SUMMARY:SME Sabah Conference 2025
DESCRIPTION:
URL:https://investsabah.gov.my/event/sme-forum/
LOCATION:Hilton Kota Kinabalu
CATEGORIES:Upcoming Events
END:VEVENT
BEGIN:VEVENT
DTSTART;VALUE=DATE:20250703
DTEND;VALUE=DATE:20250705
DTSTAMP:20260420T120904
CREATED:20250420T233551Z
LAST-MODIFIED:20250420T233551Z
UID:10000019-1751500800-1751673599@investsabah.gov.my
SUMMARY:12th Sabah Oil\, Gas & Energy Conference & Exhibition (SOGCE) 2025
DESCRIPTION:
URL:https://investsabah.gov.my/event/12th-sabah-oil-gas-energy-conference-exhibition-sogce-2025/
LOCATION:Sabah International Convention Centre\, Kota Kinabalu\, Sabah\, Malaysia
CATEGORIES:Upcoming Events
END:VEVENT
BEGIN:VEVENT
DTSTART;VALUE=DATE:20250729
DTEND;VALUE=DATE:20250730
DTSTAMP:20260420T120904
CREATED:20250729T042832Z
LAST-MODIFIED:20250729T042917Z
UID:10000025-1753747200-1753833599@investsabah.gov.my
SUMMARY:ASEAN Sustainable Forestry Summit
DESCRIPTION:
URL:https://investsabah.gov.my/event/asean-sustainable-forestry-summit/
LOCATION:Shangri-La Tanjung Aru\, Sabah\, Malaysia
CATEGORIES:Upcoming Events
END:VEVENT
BEGIN:VEVENT
DTSTART;VALUE=DATE:20250825
DTEND;VALUE=DATE:20250901
DTSTAMP:20260420T120904
CREATED:20250121T015845Z
LAST-MODIFIED:20250420T235019Z
UID:10000013-1756080000-1756684799@investsabah.gov.my
SUMMARY:World Expo 2025
DESCRIPTION:
URL:https://investsabah.gov.my/event/world-expo-2025/
LOCATION:Osaka Kansai\, Japan
CATEGORIES:Upcoming Events
END:VEVENT
BEGIN:VEVENT
DTSTART;VALUE=DATE:20250909
DTEND;VALUE=DATE:20250910
DTSTAMP:20260420T120904
CREATED:20250903T045450Z
LAST-MODIFIED:20250903T045450Z
UID:10000029-1757376000-1757462399@investsabah.gov.my
SUMMARY:Youth\, Economy & Investment Opportunity Conference
DESCRIPTION:
URL:https://investsabah.gov.my/event/youth-economy-investment-opportunity-conference/
LOCATION:Hilton Kota Kinabalu
CATEGORIES:Upcoming Events
END:VEVENT
BEGIN:VEVENT
DTSTART;VALUE=DATE:20250924
DTEND;VALUE=DATE:20250926
DTSTAMP:20260420T120904
CREATED:20250908T035350Z
LAST-MODIFIED:20250908T035350Z
UID:10000031-1758672000-1758844799@investsabah.gov.my
SUMMARY:Canada-ASEAN Business Forum 2025
DESCRIPTION:
URL:https://investsabah.gov.my/event/canada-asean-business-forum-2025/
LOCATION:Kuala Lumpur
CATEGORIES:Upcoming Events
END:VEVENT
BEGIN:VEVENT
DTSTART;VALUE=DATE:20250926
DTEND;VALUE=DATE:20250929
DTSTAMP:20260420T120904
CREATED:20250903T005657Z
LAST-MODIFIED:20250903T005657Z
UID:10000027-1758844800-1759103999@investsabah.gov.my
SUMMARY:Sabah Investment & Trade Expo (SITE)
DESCRIPTION:
URL:https://investsabah.gov.my/event/sabah-investment-trade-expo-site/
LOCATION:Sabah International Convention Centre\, Kota Kinabalu\, Sabah\, Malaysia
CATEGORIES:Upcoming Events
END:VEVENT
BEGIN:VEVENT
DTSTART;VALUE=DATE:20250929
DTEND;VALUE=DATE:20251001
DTSTAMP:20260420T120904
CREATED:20250903T045602Z
LAST-MODIFIED:20250922T081040Z
UID:10000030-1759104000-1759276799@investsabah.gov.my
SUMMARY:3rd ASEAN Blue Economy Forum 2025
DESCRIPTION:
URL:https://investsabah.gov.my/event/asean-blue-economy-conference/
LOCATION:Sabah International Convention Centre\, Kota Kinabalu\, Sabah\, Malaysia
CATEGORIES:Upcoming Events
END:VEVENT
BEGIN:VEVENT
DTSTART;VALUE=DATE:20251007
DTEND;VALUE=DATE:20251008
DTSTAMP:20260420T120904
CREATED:20251002T004151Z
LAST-MODIFIED:20251002T004151Z
UID:10000032-1759795200-1759881599@investsabah.gov.my
SUMMARY:Industry Connect
DESCRIPTION:
URL:https://investsabah.gov.my/event/industry-connect/
LOCATION:Le Méridien Hotel\, Kota Kinabalu\, Sabah
CATEGORIES:Upcoming Events
END:VEVENT
BEGIN:VEVENT
DTSTART;VALUE=DATE:20251030
DTEND;VALUE=DATE:20251031
DTSTAMP:20260420T120904
CREATED:20251023T013314Z
LAST-MODIFIED:20251023T013314Z
UID:10000033-1761782400-1761868799@investsabah.gov.my
SUMMARY:KenalESG Sabah 2026
DESCRIPTION:
URL:https://investsabah.gov.my/event/kenalesg-sabah-2026/
LOCATION:Kota Kinabalu\, Sabah\, Malaysia
CATEGORIES:Upcoming Events
END:VEVENT
END:VCALENDAR