BEGIN:VCALENDAR
VERSION:2.0
PRODID:-//Invest Sabah - ECPv6.4.0//NONSGML v1.0//EN
CALSCALE:GREGORIAN
METHOD:PUBLISH
X-WR-CALNAME:Invest Sabah
X-ORIGINAL-URL:https://investsabah.gov.my
X-WR-CALDESC:Events for Invest Sabah
REFRESH-INTERVAL;VALUE=DURATION:PT1H
X-Robots-Tag:noindex
X-PUBLISHED-TTL:PT1H
BEGIN:VTIMEZONE
TZID:Asia/Shanghai
BEGIN:STANDARD
TZOFFSETFROM:+0800
TZOFFSETTO:+0800
TZNAME:CST
DTSTART:20240101T000000
END:STANDARD
TZID:UTC
BEGIN:STANDARD
TZOFFSETFROM:+0000
TZOFFSETTO:+0000
TZNAME:UTC
DTSTART:20240101T000000
END:STANDARD
END:VTIMEZONE
BEGIN:VEVENT
DTSTART;VALUE=DATE:20241122
DTEND;VALUE=DATE:20241125
DTSTAMP:20260420T084204
CREATED:20240319T211133Z
LAST-MODIFIED:20240802T052522Z
UID:10000005-1732233600-1732492799@investsabah.gov.my
SUMMARY:Sabah-China Business Summit 2024
DESCRIPTION:
URL:https://investsabah.gov.my/event/sabah-china-business-summit-2024/
LOCATION:Sabah International Convention Centre\, Kota Kinabalu\, Sabah\, Malaysia
END:VEVENT
BEGIN:VEVENT
DTSTART;VALUE=DATE:20241019
DTEND;VALUE=DATE:20241021
DTSTAMP:20260420T084204
CREATED:20240527T121911Z
LAST-MODIFIED:20240808T025941Z
UID:10000007-1729296000-1729468799@investsabah.gov.my
SUMMARY:Sabah International Blue Economy Conference (SIBEC) 2024
DESCRIPTION:
URL:https://investsabah.gov.my/event/sabah-international-blue-economy-conference/
LOCATION:Sabah International Convention Centre\, Kota Kinabalu\, Sabah\, Malaysia
CATEGORIES:Upcoming Events
END:VEVENT
BEGIN:VEVENT
DTSTART;VALUE=DATE:20240828
DTEND;VALUE=DATE:20240830
DTSTAMP:20260420T084204
CREATED:20240814T062357Z
LAST-MODIFIED:20240814T062357Z
UID:10000010-1724803200-1724975999@investsabah.gov.my
SUMMARY:The Business Show Asia 2024
DESCRIPTION:
URL:https://investsabah.gov.my/event/the-business-show-asia-2024/
LOCATION:Sands Expo and Convention Centre\, Marina Bay Sands.\, Singapore
END:VEVENT
BEGIN:VEVENT
DTSTART;VALUE=DATE:20240725
DTEND;VALUE=DATE:20240728
DTSTAMP:20260420T084204
CREATED:20240319T210844Z
LAST-MODIFIED:20240711T034527Z
UID:10000004-1721865600-1722124799@investsabah.gov.my
SUMMARY:4th Selangor Investment & Industrial Park Expo 2024
DESCRIPTION:
URL:https://investsabah.gov.my/event/4th-selangor-investment-industrial-park-expo-2024/
LOCATION:KLCC\, Kuala Lumpur\, Malaysia
END:VEVENT
BEGIN:VEVENT
DTSTART;VALUE=DATE:20240703
DTEND;VALUE=DATE:20240704
DTSTAMP:20260420T084204
CREATED:20240612T030944Z
LAST-MODIFIED:20240612T030944Z
UID:10000009-1719964800-1720051199@investsabah.gov.my
SUMMARY:Malaysia-China Summit 2024
DESCRIPTION:
URL:https://investsabah.gov.my/event/malaysia-china-summit-2024/
LOCATION:Shangri-La Tanjung Aru\, Sabah\, Malaysia
END:VEVENT
BEGIN:VEVENT
DTSTART;VALUE=DATE:20240621
DTEND;VALUE=DATE:20240622
DTSTAMP:20260420T084204
CREATED:20240319T210649Z
LAST-MODIFIED:20240319T211519Z
UID:10000003-1718928000-1719014399@investsabah.gov.my
SUMMARY:Sabah Japan Forum 2024
DESCRIPTION:
URL:https://investsabah.gov.my/event/sabah-japan-forum-2024-at-hyatt-centric-kota-kinabalu/
LOCATION:Hyatt Centric\, Kota Kinabalu\, Sabah\, Malaysia
CATEGORIES:Upcoming Events
END:VEVENT
BEGIN:VEVENT
DTSTART;VALUE=DATE:20240612
DTEND;VALUE=DATE:20240614
DTSTAMP:20260420T084205
CREATED:20240611T081356Z
LAST-MODIFIED:20240611T081356Z
UID:10000008-1718150400-1718323199@investsabah.gov.my
SUMMARY:Sabah Sustainability Accelerator Program
DESCRIPTION:
URL:https://investsabah.gov.my/event/sabah-sustainability-accelerator-program/
LOCATION:Sabah International Convention Centre\, Kota Kinabalu\, Sabah\, Malaysia
END:VEVENT
BEGIN:VEVENT
DTSTART;VALUE=DATE:20240507
DTEND;VALUE=DATE:20240508
DTSTAMP:20260420T084205
CREATED:20240319T210552Z
LAST-MODIFIED:20240319T211712Z
UID:10000002-1715040000-1715126399@investsabah.gov.my
SUMMARY:ESG Business Summit 2024
DESCRIPTION:
URL:https://investsabah.gov.my/event/esg-business-summit-2024/
LOCATION:Magellan Sutera Harbour\, Kota Kinabalu\, Sabah\, Malaysia
CATEGORIES:Upcoming Events
END:VEVENT
BEGIN:VEVENT
DTSTART;VALUE=DATE:20240321
DTEND;VALUE=DATE:20240329
DTSTAMP:20260420T084205
CREATED:20240319T003344Z
LAST-MODIFIED:20240319T211940Z
UID:10000001-1710979200-1711670399@investsabah.gov.my
SUMMARY:Working Visit to 3 China Provinces
DESCRIPTION:
URL:https://investsabah.gov.my/event/working-visit-to-3-china-provinces/
CATEGORIES:Upcoming Events
END:VEVENT
END:VCALENDAR