BEGIN:VCALENDAR
VERSION:2.0
PRODID:-//Invest Sabah - ECPv6.4.0//NONSGML v1.0//EN
CALSCALE:GREGORIAN
METHOD:PUBLISH
X-ORIGINAL-URL:https://investsabah.gov.my
X-WR-CALDESC:Events for Invest Sabah
REFRESH-INTERVAL;VALUE=DURATION:PT1H
X-Robots-Tag:noindex
X-PUBLISHED-TTL:PT1H
BEGIN:VTIMEZONE
TZID:Asia/Shanghai
BEGIN:STANDARD
TZOFFSETFROM:+0800
TZOFFSETTO:+0800
TZNAME:CST
DTSTART:20250101T000000
END:STANDARD
END:VTIMEZONE
BEGIN:VEVENT
DTSTART;VALUE=DATE:20250424
DTEND;VALUE=DATE:20250425
DTSTAMP:20260419T221053
CREATED:20250324T070935Z
LAST-MODIFIED:20250324T070935Z
UID:10000018-1745452800-1745539199@investsabah.gov.my
SUMMARY:Sabah Renewable Energy Conference (SAREC) 2025
DESCRIPTION:
URL:https://investsabah.gov.my/event/sabah-renewable-energy-conference-sarec-2025/
LOCATION:Shangri-La Tanjung Aru\, Sabah\, Malaysia
END:VEVENT
END:VCALENDAR